BEGIN:VCALENDAR
VERSION:2.0
PRODID:-//YogaJona - ECPv6.15.12.2//NONSGML v1.0//EN
CALSCALE:GREGORIAN
METHOD:PUBLISH
X-WR-CALNAME:YogaJona
X-ORIGINAL-URL:https://yogajona.se
X-WR-CALDESC:Händelser för YogaJona
REFRESH-INTERVAL;VALUE=DURATION:PT1H
X-Robots-Tag:noindex
X-PUBLISHED-TTL:PT1H
BEGIN:VTIMEZONE
TZID:UTC
BEGIN:STANDARD
TZOFFSETFROM:+0000
TZOFFSETTO:+0000
TZNAME:UTC
DTSTART:20230101T000000
END:STANDARD
END:VTIMEZONE
BEGIN:VEVENT
DTSTART;TZID=UTC:20240617T193000
DTEND;TZID=UTC:20240617T200000
DTSTAMP:20260424T090633
CREATED:20240613T042236Z
LAST-MODIFIED:20240613T042236Z
UID:10000006-1718652600-1718654400@yogajona.se
SUMMARY:Gratis live yogaevent på Instagram den 17 juni!
DESCRIPTION:Sommaren är här och vår yogautbildning är i full gång! Vi har mycket kvar att ge innan vi tar sommarlov och vi vill ge dig en stressfri\, ljuvlig och njutbar sommar. Därför bjuder vi in dig till ett gratis liveevent på Instagram tillsammans med Jona och vänner! \nDatum och Tid\nMåndagen den 17 juni kl. 19:30-20:00 \nVad händer på eventet?\n✨ Du får en mjuk\, enkel sittande yogaserie som du kan ta med dig hem\n✨ Du får en andningsövning för en stressfri sommar\n✨ Du får kort information om sommarens yoga och kommande events \nHur deltar man på eventet?\nFölj oss på Instagram här för att delta i liveeventet. Vill du ha mer yoga i ditt liv? Missa inte detta smakprov på vad som kommer snart! Du får en försmak av vad vi har att erbjuda i sommar. Vi ser fram emot att dela denna upplevelse med dig och ge dig verktyg för en härlig och stressfri sommar. \nNamaste  \nFölj Oss på Instagram!\nFör att hålla dig uppdaterad om fler evenemang och få daglig yogainspiration\, följ oss på Instagram här: https://www.instagram.com/yogajona.se/
URL:https://yogajona.se/evenemang/gratis-live-yogaevent-pa-instagram-den-17-juni/
ATTACH;FMTTYPE=image/jpeg:https://yogajona.se/wp-content/uploads/2024/02/DA575DEC-CE33-46F7-B5C4-C69C76DCED70_1_105_c.jpeg
END:VEVENT
END:VCALENDAR