BEGIN:VCALENDAR
VERSION:2.0
PRODID:-//YogaJona - ECPv6.15.12.2//NONSGML v1.0//EN
CALSCALE:GREGORIAN
METHOD:PUBLISH
X-ORIGINAL-URL:https://yogajona.se
X-WR-CALDESC:Händelser för YogaJona
REFRESH-INTERVAL;VALUE=DURATION:PT1H
X-Robots-Tag:noindex
X-PUBLISHED-TTL:PT1H
BEGIN:VTIMEZONE
TZID:UTC
BEGIN:STANDARD
TZOFFSETFROM:+0000
TZOFFSETTO:+0000
TZNAME:UTC
DTSTART:20230101T000000
END:STANDARD
END:VTIMEZONE
BEGIN:VEVENT
DTSTART;TZID=UTC:20240701T090000
DTEND;TZID=UTC:20240731T100000
DTSTAMP:20260416T220032
CREATED:20240422T094617Z
LAST-MODIFIED:20240619T084201Z
UID:10000004-1719824400-1722420000@yogajona.se
SUMMARY:Sommaryoga i Gläntan!
DESCRIPTION:När: Måndagar\, onsdagar och fredagar kl. 09:00-10:00 i juli. \nVar: Gläntan vid Falsterbokanalen\, norr om Östra Kanalvägens parkering i Höllviken. \nVem: Alla nivåer är välkomna\, oavsett om du är nybörjare eller erfaren! \nPris: Endast 100 kr per gång\, betalas enkelt via Swish på plats. \nVarmt välkommen till en vackra yogastunder vid Falsterbokanalen i sommar! Upplev skön yoga utomhus med fokus på styrka och smidighet. Varje dag har sitt unika tema: stabilitet och styrka på måndagar\, solhälsningar och flow på onsdagar\, och på fredagar bjuder jag på ett energifyllt yogaparty! Ingen föranmälan behövs\, det är bara att droppa in på härlig yoga som ger en perfekt start på dagen.Ta med din egen yogamatta och anpassa dina kläder efter väder. Vi ser fram emot att möta dig i gläntan för underbara yogastunder under sommarsolen! \nNamaste! \nYogaJona & Vänner \n \n  \n 
URL:https://yogajona.se/evenemang/brygg-yoga/
ATTACH;FMTTYPE=image/png:https://yogajona.se/wp-content/uploads/2024/06/4831712996_dbb5c0702a_o.png
END:VEVENT
END:VCALENDAR