BEGIN:VCALENDAR
VERSION:2.0
PRODID:-//YogaJona - ECPv6.15.12.2//NONSGML v1.0//EN
CALSCALE:GREGORIAN
METHOD:PUBLISH
X-ORIGINAL-URL:https://yogajona.se
X-WR-CALDESC:Händelser för YogaJona
REFRESH-INTERVAL;VALUE=DURATION:PT1H
X-Robots-Tag:noindex
X-PUBLISHED-TTL:PT1H
BEGIN:VTIMEZONE
TZID:UTC
BEGIN:STANDARD
TZOFFSETFROM:+0000
TZOFFSETTO:+0000
TZNAME:UTC
DTSTART:20230101T000000
END:STANDARD
END:VTIMEZONE
BEGIN:VEVENT
DTSTART;TZID=UTC:20240902T193000
DTEND;TZID=UTC:20240902T200000
DTSTAMP:20260421T183029
CREATED:20240804T143633Z
LAST-MODIFIED:20240827T074912Z
UID:10000012-1725305400-1725307200@yogajona.se
SUMMARY:Gratis online yoga
DESCRIPTION:Datum: Måndag 2 september\nTid: 19:30 – 20:00\nPlats: Instagram Live på @yogajona.se \nVälkommen till ett gratis online live-event på Instagram\, där jag bjuder på en härlig och avkopplande stund för att kickstarta hösten. Under detta 30-minuters event får du: \nEn mjuk sittande yogaserie: Lär dig enkla och effektiva yogarörelser som du kan praktisera hemma för att främja välmående och flexibilitet. \nEn andningsövning för stressfri höst: Upptäck en lugnande andningsteknik som hjälper dig att hantera stress och hitta inre ro. \nKort info om höstens yoga & events: Få en översikt över våra spännande yogatillfällen och aktiviteter som väntar under hösten. \nDetta är ett perfekt tillfälle att få en försmak av vad som kommer och att få inspiration till din egen yogapraktik. Ingen anmälan behövs\, det är bara att ansluta via Instagram på @yogajona.se och njuta av en stund för dig själv. \nJag ser fram emot att träffa dig online och dela denna härliga stund tillsammans! \nMed värme\,\nJona
URL:https://yogajona.se/evenemang/gratis-online-hostyoga-kickoff/
ATTACH;FMTTYPE=image/jpeg:https://yogajona.se/wp-content/uploads/2024/08/2-Gratis-online-.jpg
END:VEVENT
END:VCALENDAR