BEGIN:VCALENDAR
VERSION:2.0
PRODID:-//YogaJona - ECPv6.15.12.2//NONSGML v1.0//EN
CALSCALE:GREGORIAN
METHOD:PUBLISH
X-WR-CALNAME:YogaJona
X-ORIGINAL-URL:https://yogajona.se
X-WR-CALDESC:Händelser för YogaJona
REFRESH-INTERVAL;VALUE=DURATION:PT1H
X-Robots-Tag:noindex
X-PUBLISHED-TTL:PT1H
BEGIN:VTIMEZONE
TZID:UTC
BEGIN:STANDARD
TZOFFSETFROM:+0000
TZOFFSETTO:+0000
TZNAME:UTC
DTSTART:20230101T000000
END:STANDARD
END:VTIMEZONE
BEGIN:VEVENT
DTSTART;TZID=UTC:20240907T090000
DTEND;TZID=UTC:20240908T170000
DTSTAMP:20260423T065406
CREATED:20240825T065914Z
LAST-MODIFIED:20240825T065914Z
UID:10000013-1725699600-1725814800@yogajona.se
SUMMARY:Atletisk Yoga
DESCRIPTION:Atletisk Yoga 7-8 september\nFördjupa din kunskap som yogalärare med en helg fylld av inspiration och lärande. Vi fokuserar på att stärka kroppen och förbättra rörlighet\, balans och styrka genom atletisk yoga. Utforska kraften i vridningar och fördjupa din praktik i mindfulness. Under helgen ingår fyra yogapass\, två föreläsningar\, två workshoppar och två meditationer utomhus. Det finns också tid för frågor och reflektion. Denna delkurs är perfekt för yogalärare som vill vidareutveckla sin undervisning och ingår i RYT-500-certifiering. \nPris: 2250 kr (faktureras) – Halva priset för färdiga yogalärare!\nPlats: Höllvisknäs\, Höllviken \nAnmäl dig nedanför så skickar vi mer info.
URL:https://yogajona.se/evenemang/atletisk-yoga/
ATTACH;FMTTYPE=image/jpeg:https://yogajona.se/wp-content/uploads/2017/09/max_lawless_photography-3302-scaled.jpg
END:VEVENT
END:VCALENDAR