BEGIN:VCALENDAR
VERSION:2.0
PRODID:-//YogaJona - ECPv6.15.12.2//NONSGML v1.0//EN
CALSCALE:GREGORIAN
METHOD:PUBLISH
X-WR-CALNAME:YogaJona
X-ORIGINAL-URL:https://yogajona.se
X-WR-CALDESC:Händelser för YogaJona
REFRESH-INTERVAL;VALUE=DURATION:PT1H
X-Robots-Tag:noindex
X-PUBLISHED-TTL:PT1H
BEGIN:VTIMEZONE
TZID:UTC
BEGIN:STANDARD
TZOFFSETFROM:+0000
TZOFFSETTO:+0000
TZNAME:UTC
DTSTART:20230101T000000
END:STANDARD
END:VTIMEZONE
BEGIN:VEVENT
DTSTART;TZID=UTC:20241115T120000
DTEND;TZID=UTC:20241117T170000
DTSTAMP:20260423T035914
CREATED:20240825T081536Z
LAST-MODIFIED:20240825T081536Z
UID:10000016-1731672000-1731862800@yogajona.se
SUMMARY:Yogagames
DESCRIPTION:Jag är glad att meddela att jag samarbetar med Yoga Games\, ett av Sveriges största och mest betydelsefulla event inom yoga och wellness! Detta fantastiska evenemang samlar yogautövare\, instruktörer och utställare från hela landet för en helg fylld av inspiration\, personlig utveckling och välbefinnande. \nYoga Games är mer än bara ett event – det är en plattform för att sprida yogans positiva effekter och inspirera fler att börja utöva yoga. Här får du chansen att fördjupa din yogapraktik\, träffa likasinnade och uppleva en helg full av energi och gemenskap. \nSom samarbetspartner kan jag erbjuda dig 15% rabatt på din anmälan med koden yogajona15. Rabatten gäller oavsett om du deltar en\, två eller alla tre dagar. Missa inte chansen att vara en del av detta inspirerande event i vackra Båstad! \nDatum: 15-17 november\nPlats: Båstad\nRabattkod: yogajona15\nLäs mer och anmäl dig här: Yoga Games \nLåt oss tillsammans sprida yogans positiva effekter och göra världen lite bättre\, en yogatimme i taget. Jag ser fram emot att se dig där! Namaste! \nJona
URL:https://yogajona.se/evenemang/yogagames/
ATTACH;FMTTYPE=image/jpeg:https://yogajona.se/wp-content/uploads/2024/08/YGB24-2.jpg
END:VEVENT
END:VCALENDAR