BEGIN:VCALENDAR
VERSION:2.0
PRODID:-//YogaJona - ECPv6.15.12.2//NONSGML v1.0//EN
CALSCALE:GREGORIAN
METHOD:PUBLISH
X-WR-CALNAME:YogaJona
X-ORIGINAL-URL:https://yogajona.se
X-WR-CALDESC:Händelser för YogaJona
REFRESH-INTERVAL;VALUE=DURATION:PT1H
X-Robots-Tag:noindex
X-PUBLISHED-TTL:PT1H
BEGIN:VTIMEZONE
TZID:UTC
BEGIN:STANDARD
TZOFFSETFROM:+0000
TZOFFSETTO:+0000
TZNAME:UTC
DTSTART:20240101T000000
END:STANDARD
END:VTIMEZONE
BEGIN:VEVENT
DTSTART;TZID=UTC:20250301T083000
DTEND;TZID=UTC:20250302T170000
DTSTAMP:20260416T211512
CREATED:20250130T112329Z
LAST-MODIFIED:20250210T081331Z
UID:10000019-1740817800-1740934800@yogajona.se
SUMMARY:Yogahelg i Skanör – Yoga och Nervsystemet
DESCRIPTION:Datum: 1–2 mars 2025\nPlats: Stadshuset\, Rådhustorget\, Skanör\nPris: 1250 kr \nUnder denna helg fördjupar vi oss i yoga och nervsystemet\, med fokus på hur lugnare yogastilar som yinyoga och pranayama kan stödja återhämtning och skapa inre balans. Vi kombinerar teori och praktik genom föreläsningar\, meditation och yogapass för att förstå sambandet mellan kroppen\, andningen och nervsystemet. \nDenna helg passar dig som:\n– Vill förstå hur yoga påverkar nervsystemet och stressreglering\n– Söker återhämtning genom lugnare yogapraktik\n– Är yogalärare eller yogautövare som vill fördjupa din kunskap \nAnmälan: Begränsat antal platser. Boka din plats genom att anmäla dig här. \nVarmt välkommen!
URL:https://yogajona.se/evenemang/yogahelg-i-skanor-yoga-och-nervsystemet/
ATTACH;FMTTYPE=image/jpeg:https://yogajona.se/wp-content/uploads/2021/10/CMB4884-scaled.jpeg
END:VEVENT
END:VCALENDAR