BEGIN:VCALENDAR
VERSION:2.0
PRODID:-//YogaJona - ECPv6.15.12.2//NONSGML v1.0//EN
CALSCALE:GREGORIAN
METHOD:PUBLISH
X-ORIGINAL-URL:https://yogajona.se
X-WR-CALDESC:Händelser för YogaJona
REFRESH-INTERVAL;VALUE=DURATION:PT1H
X-Robots-Tag:noindex
X-PUBLISHED-TTL:PT1H
BEGIN:VTIMEZONE
TZID:UTC
BEGIN:STANDARD
TZOFFSETFROM:+0000
TZOFFSETTO:+0000
TZNAME:UTC
DTSTART:20240101T000000
END:STANDARD
END:VTIMEZONE
BEGIN:VEVENT
DTSTART;TZID=UTC:20250601T083000
DTEND;TZID=UTC:20250601T120000
DTSTAMP:20260422T135339
CREATED:20250320T070738Z
LAST-MODIFIED:20250326T143926Z
UID:10000036-1748766600-1748779200@yogajona.se
SUMMARY:Yoga Sommar – Passion & Glädje
DESCRIPTION:Välkommen till en magisk förmiddag där du får starta sommaren med härlig yoga och ljuvlig frukost! Tänk dig en lugn och inspirerande miljö där du får landa i din kropp\, släppa stress och bjuda in ny energi. Vi möts i Skanörs Stadshus den 1 juni kl. 9-12 för ett yogapass som passar alla\, oavsett om du är nybörjare eller erfaren. \nVi börjar med skön yoga där du får röra dig med hjärtat och känna sommarens energi fylla kroppen. Efter yogan fortsätter vi med en ljuvligt god frukost på Hotell Gässlingen\, där vi får njuta av god mat och go gemenskap. Därefter fördjupar vi oss i yoga och lär oss mer om hur vi kan ta med oss yogan ut i sommarens ljus och frihet. \nDatum & Tid: 1 juni kl. 8:30-12Plats: Skanörs Stadshus\, SkanörPris: 395kr inklusive frukost på Hotell Gässlingen Anmälan: Mejla till jona@yogajona.se \nYoga med hjärtat\, njut av sommaren och ge dig själv en skön och inspirerande start på den ljusa årstiden.\nHjärtligt välkommen!
URL:https://yogajona.se/evenemang/yoga-sommar-passion-gladje/
ATTACH;FMTTYPE=image/jpeg:https://yogajona.se/wp-content/uploads/2025/03/hellosummer.jpg
END:VEVENT
END:VCALENDAR