BEGIN:VCALENDAR
VERSION:2.0
PRODID:-//YogaJona - ECPv6.15.12.2//NONSGML v1.0//EN
CALSCALE:GREGORIAN
METHOD:PUBLISH
X-ORIGINAL-URL:https://yogajona.se
X-WR-CALDESC:Händelser för YogaJona
REFRESH-INTERVAL;VALUE=DURATION:PT1H
X-Robots-Tag:noindex
X-PUBLISHED-TTL:PT1H
BEGIN:VTIMEZONE
TZID:Europe/Paris
BEGIN:DAYLIGHT
TZOFFSETFROM:+0100
TZOFFSETTO:+0200
TZNAME:CEST
DTSTART:20240331T010000
END:DAYLIGHT
BEGIN:STANDARD
TZOFFSETFROM:+0200
TZOFFSETTO:+0100
TZNAME:CET
DTSTART:20241027T010000
END:STANDARD
BEGIN:DAYLIGHT
TZOFFSETFROM:+0100
TZOFFSETTO:+0200
TZNAME:CEST
DTSTART:20250330T010000
END:DAYLIGHT
BEGIN:STANDARD
TZOFFSETFROM:+0200
TZOFFSETTO:+0100
TZNAME:CET
DTSTART:20251026T010000
END:STANDARD
BEGIN:DAYLIGHT
TZOFFSETFROM:+0100
TZOFFSETTO:+0200
TZNAME:CEST
DTSTART:20260329T010000
END:DAYLIGHT
BEGIN:STANDARD
TZOFFSETFROM:+0200
TZOFFSETTO:+0100
TZNAME:CET
DTSTART:20261025T010000
END:STANDARD
END:VTIMEZONE
BEGIN:VEVENT
DTSTART;TZID=Europe/Paris:20251130T090000
DTEND;TZID=Europe/Paris:20251130T113000
DTSTAMP:20260420T122614
CREATED:20250916T061958Z
LAST-MODIFIED:20251127T133439Z
UID:10000048-1764493200-1764502200@yogajona.se
SUMMARY:Yoga You Love - Sinnesfrid
DESCRIPTION:Hjärtligt välkommen till Sinnesfrid i juletid\, en liten resa i stillhet mot ny energi\n\nTid: Söndag 30 november\, kl. 9–11:15 (dörren öppnas 08:30)\nPlats: Bistro Perspektiv\, Strandbadsvägen 30\, Falsterbo Strandbad\nPris: 495 kr (inkl. fika)\nTa med: Yogamatta\, skön filt och gosig tröja\n\nNär november går mot sitt slut och julen närmar sig kan det vara skönt med en liten paus. Du får lite egentid på yogamattan för att stretcha kroppen\, hämta andan och hitta lugnet mitt i allt som snurrar. \nVi börjar med enkla\, mjuka rörelser som hjälper kroppen att slappna av. Sedan bygger vi upp värme och energi i ett lugnt yogaflow till skön musik. Vi tar en paus för fika och tillslut guidas du in i en längre vila och mindfulnessmeditation. \nPasset passar både dig som aldrig provat yoga förut och dig som yogat länge. Här finns inget att prestera. Bara en möjlighet att stretcha ut kroppen\, få igång cirkulationen och stilla tankarna. \nHjärtligt välkommen att fira advent med stillhet och värme. Jag ser fram emot en fin stund av ro och återhämtning till skenet av levande ljus. \nJona Dahlquist
URL:https://yogajona.se/evenemang/yoga-you-love-sinnesfrid/
LOCATION:Bistro Perspektiv Falsterbo\, Strandbadsvägen 30\, Falsterrbo\, 23942
ATTACH;FMTTYPE=image/jpeg:https://yogajona.se/wp-content/uploads/2025/09/sinnesfrid-scaled.jpg
END:VEVENT
END:VCALENDAR