BEGIN:VCALENDAR
VERSION:2.0
PRODID:-//YogaJona - ECPv6.15.12.2//NONSGML v1.0//EN
CALSCALE:GREGORIAN
METHOD:PUBLISH
X-WR-CALNAME:YogaJona
X-ORIGINAL-URL:https://yogajona.se
X-WR-CALDESC:Händelser för YogaJona
REFRESH-INTERVAL;VALUE=DURATION:PT1H
X-Robots-Tag:noindex
X-PUBLISHED-TTL:PT1H
BEGIN:VTIMEZONE
TZID:UTC
BEGIN:STANDARD
TZOFFSETFROM:+0000
TZOFFSETTO:+0000
TZNAME:UTC
DTSTART:20230101T000000
END:STANDARD
END:VTIMEZONE
BEGIN:VEVENT
DTSTART;TZID=UTC:20240414T140000
DTEND;TZID=UTC:20240414T170000
DTSTAMP:20260425T212225
CREATED:20240409T112004Z
LAST-MODIFIED:20240409T115638Z
UID:10000002-1713103200-1713114000@yogajona.se
SUMMARY:Vill du bli yogalärare? Eller vill du lära dig mer om yoga för din egen skull?
DESCRIPTION:Välkommen till vårt informationsträff söndagen den 14 april kl. 14:00 – 17:00 på Studio Canalis. Du kommer att du få följande: \nEtt enkelt yogapass för att ge dig en försmak av vad vår utbildning har att erbjuda. \nInformation om studieplanen och en närmare titt på vad du kan förvänta dig under utbildningens gång. \nEn chans att ställa alla dina frågor och få ytterligare klarhet kring vår utbildning och dess fördelar. \nPriset är 500kr som dras av från din kursavgift om du väljer att gå utbildningen. Du får även en yogabok och fika! För att säkra din plats på detta informationsmöte ber jag dig att skriva ett meddelande till jona \nVälkommen!
URL:https://yogajona.se/evenemang/vill-du-bli-yogalarare-eller-vill-du-lara-dig-mer-om-yoga-for-din-egen-skull/
LOCATION:Bistro Perspektiv Falsterbo\, Strandbadsvägen 30\, Falsterrbo\, 23942
ATTACH;FMTTYPE=image/jpeg:https://yogajona.se/wp-content/uploads/2023/11/yipii-scaled.jpeg
END:VEVENT
END:VCALENDAR