BEGIN:VCALENDAR
VERSION:2.0
PRODID:-//YogaJona - ECPv6.15.12.2//NONSGML v1.0//EN
CALSCALE:GREGORIAN
METHOD:PUBLISH
X-ORIGINAL-URL:https://yogajona.se
X-WR-CALDESC:Händelser för YogaJona
REFRESH-INTERVAL;VALUE=DURATION:PT1H
X-Robots-Tag:noindex
X-PUBLISHED-TTL:PT1H
BEGIN:VTIMEZONE
TZID:UTC
BEGIN:STANDARD
TZOFFSETFROM:+0000
TZOFFSETTO:+0000
TZNAME:UTC
DTSTART:20230101T000000
END:STANDARD
END:VTIMEZONE
BEGIN:VEVENT
DTSTART;TZID=UTC:20240701T090000
DTEND;TZID=UTC:20240731T100000
DTSTAMP:20260416T222812
CREATED:20240422T094617Z
LAST-MODIFIED:20240619T084201Z
UID:10000004-1719824400-1722420000@yogajona.se
SUMMARY:Sommaryoga i Gläntan!
DESCRIPTION:När: Måndagar\, onsdagar och fredagar kl. 09:00-10:00 i juli. \nVar: Gläntan vid Falsterbokanalen\, norr om Östra Kanalvägens parkering i Höllviken. \nVem: Alla nivåer är välkomna\, oavsett om du är nybörjare eller erfaren! \nPris: Endast 100 kr per gång\, betalas enkelt via Swish på plats. \nVarmt välkommen till en vackra yogastunder vid Falsterbokanalen i sommar! Upplev skön yoga utomhus med fokus på styrka och smidighet. Varje dag har sitt unika tema: stabilitet och styrka på måndagar\, solhälsningar och flow på onsdagar\, och på fredagar bjuder jag på ett energifyllt yogaparty! Ingen föranmälan behövs\, det är bara att droppa in på härlig yoga som ger en perfekt start på dagen.Ta med din egen yogamatta och anpassa dina kläder efter väder. Vi ser fram emot att möta dig i gläntan för underbara yogastunder under sommarsolen! \nNamaste! \nYogaJona & Vänner \n \n  \n 
URL:https://yogajona.se/evenemang/brygg-yoga/
ATTACH;FMTTYPE=image/png:https://yogajona.se/wp-content/uploads/2024/06/4831712996_dbb5c0702a_o.png
END:VEVENT
BEGIN:VEVENT
DTSTART;TZID=UTC:20240706T090000
DTEND;TZID=UTC:20240707T170000
DTSTAMP:20260416T222812
CREATED:20240609T171901Z
LAST-MODIFIED:20240611T063819Z
UID:10000005-1720256400-1720371600@yogajona.se
SUMMARY:Yogahelg den 6-7 juli i Höllviken
DESCRIPTION:Höjdpunkter:\n\n4 yogapass: Ashtangayoga\, Prana Vinyasa\, Rocket Yoga och Breath Work\n2 meditationer utomhus\n2 föreläsningar och 2 workshops\nInspirerande bok ingår\n50% rabatt för deltagande yogalärare\n\nSchema:\n\nLördag och söndag\, 9:00 – 17:00\n\nVälkommen till en inspirerande yogahelg i vackra Höllviken\, exklusivt för färdiga yogalärare! Anmäl dig nu genom att skicka ett mejl till jona@yogajona.se för att säkra din plats till en helg fylld av yoga\, inspiration och professionell utveckling. Vi skickar dig också mer information om plats och vad du behöver ta med dig! \nFrågor: Jona Dahlquist\nKontakt: jona@yogajona.se
URL:https://yogajona.se/evenemang/yogahelg-den-6-7-juli-i-hollviken/
ATTACH;FMTTYPE=image/jpeg:https://yogajona.se/wp-content/uploads/2022/06/25065079943_0dfb9f5a1f_o.jpg
END:VEVENT
BEGIN:VEVENT
DTSTART;TZID=UTC:20240707T040000
DTEND;TZID=UTC:20240707T060000
DTSTAMP:20260416T222812
CREATED:20240412T083613Z
LAST-MODIFIED:20240428T062232Z
UID:10000003-1720324800-1720332000@yogajona.se
SUMMARY:Soluppgångs Yoga!
DESCRIPTION:Vad: Mjuk yoga i soluppgången för att fira sommaren\nDatum: Söndagen den 7 juli\nTid: Kl. 04:00 – 06:00\nPlats: Stranden i Höllviken\, cirka 200 meter öster om den Vita Bastun på den Östra Piren vid Falsterbokanalen\nPris: Gratis! \nVad du behöver ta med dig:\n \n\nVarma kläder\nEgen yogamatta/liggunderlag\nFilt\nVarm dryck för att hålla dig varm\n\nAnmälan: Skicka ett mail till jona@yogajona.se för att anmäla dig\, eller så kan du bara dyka upp på stranden om du får feeling. \nSpeciella instruktioner för att hitta platsen:\nParkera bilen eller cykeln på Östra Kanalvägens Parkering. Gå ner till Den Vita Bastun och fortsätt längs stranden österut. Sikta på en eld som brinner i sanden. Om du går ner till stranden från en annan plats\, t.ex. närmare Kämpinge\, gå då i riktning mot Falsterbokanalen och du kommer snart fram till elden. \nVarmt välkommen till en oförglömlig morgon och en lycklig fröjdefull sommar! \nJona \n 
URL:https://yogajona.se/evenemang/soluppgangs-yoga/
ATTACH;FMTTYPE=image/jpeg:https://yogajona.se/wp-content/uploads/2023/09/IMG_1548-scaled-e1694549899388.jpeg
END:VEVENT
END:VCALENDAR