BEGIN:VCALENDAR
VERSION:2.0
PRODID:-//YogaJona - ECPv6.15.12.2//NONSGML v1.0//EN
CALSCALE:GREGORIAN
METHOD:PUBLISH
X-ORIGINAL-URL:https://yogajona.se
X-WR-CALDESC:Händelser för YogaJona
REFRESH-INTERVAL;VALUE=DURATION:PT1H
X-Robots-Tag:noindex
X-PUBLISHED-TTL:PT1H
BEGIN:VTIMEZONE
TZID:UTC
BEGIN:STANDARD
TZOFFSETFROM:+0000
TZOFFSETTO:+0000
TZNAME:UTC
DTSTART:20240101T000000
END:STANDARD
END:VTIMEZONE
BEGIN:VEVENT
DTSTART;TZID=UTC:20250406T083000
DTEND;TZID=UTC:20250406T120000
DTSTAMP:20260422T183850
CREATED:20250308T075338Z
LAST-MODIFIED:20250326T142439Z
UID:10000021-1743928200-1743940800@yogajona.se
SUMMARY:Yoga Vår – Rörelse & Tillväxt
DESCRIPTION:Våren är tiden för ny energi\, rörelse och tillväxt. Men också att hitta en hållbar rytm – Pace Well – så att du kan utvecklas i din egen takt och njuta av resan. \nDen 6 april kl. 8:30–12:00 möts vi i Skanörs Stadshus för en halvdag fylld av yoga\, frukost och fördjupning. Vi börjar med ett skönt yogapass där vi utforskar teknik\, linjering och förståelse av yogapositioner. Med enkla verktyg och mjuka övergångar skapar vi stabilitet och grund för att utvecklas i din yogapraktik. \nEfter yogapasset njuter vi av en härlig frukost på Hotell Gässlingen innan vi fortsätter med en djupare session där teori och praktik vävs samman. Det här är en förmiddag som ger dig möjlighet att landa i kroppen\, skapa klarhet och hitta styrkan i att växa i din egen takt. \nDatum & Tid: 6 april 2025 kl. 8:30–12:00Plats: Stadshuset\, Rådhustorget\, Skanör Pris: 395 kr inklusive frukost på Hotell GässlingenAnmälan: Mejla till jona@yogajona.se \nGe dig själv tid att växa och utvecklas med ny energi.Hjärtligt välkommen!
URL:https://yogajona.se/evenemang/varens-yogaevent-6-april-i-skanor/
ATTACH;FMTTYPE=image/jpeg:https://yogajona.se/wp-content/uploads/2025/03/Yoga-Weekend-60.jpg
END:VEVENT
END:VCALENDAR